View In:
  ArcGIS JavaScript
  ArcGIS Online Map Viewer
  ArcGIS Earth
  ArcMap
  ArcGIS Pro
View Footprint In:
  ArcGIS Online Map Viewer
Service Description:  
Map Name:  Layers
Legend
All Layers and Tables
Dynamic Legend
Dynamic All Layers
Layers: 
Description:  
Copyright Text:   
Spatial Reference: 
102100
 (3857)
Single Fused Map Cache:  true
Tile Info: 
- Height: 256
- Width: 256
- DPI: 96
- 
Levels of Detail:  24
- 
Level ID: 1
[ Start Tile, End Tile ]
- Resolution: 78271.5169639999
- Scale: 2.95828763795777E8
- 
Level ID: 2
[ Start Tile, End Tile ]
- Resolution: 39135.7584820001
- Scale: 1.47914381897889E8
- 
Level ID: 3
[ Start Tile, End Tile ]
- Resolution: 19567.8792409999
- Scale: 7.3957190948944E7
- 
Level ID: 4
[ Start Tile, End Tile ]
- Resolution: 9783.93962049996
- Scale: 3.6978595474472E7
- 
Level ID: 5
[ Start Tile, End Tile ]
- Resolution: 4891.96981024998
- Scale: 1.8489297737236E7
- Format: MIXED
- Compression Quality: 75.0
- Origin: X:  -2.0037508342787E7
 Y:  2.0037508342787E7
 
- Spatial Reference: 102100
 (3857)
 
Initial Extent:
XMin: -9077149.447542276
YMin: 5110246.818329087
XMax: -9010828.099428682
YMax: 5142469.364494223
Spatial Reference: 102100
Full Extent:
XMin: -9076389.872382052
YMin: 5079970.446574265
XMax: -9016021.03247214
YMax: 5146540.361587782
Spatial Reference: 102100
Units: esriMeters
Supported Image Format Types:  PNG32,PNG24,PNG,JPG,DIB,TIFF,EMF,PS,PDF,GIF,SVG,SVGZ,BMP
Document Info: 
Title: Historic
Author: lakegis
Comments: 
Subject: 
Category: 
Keywords: 
AntialiasingMode: None
TextAntialiasingMode: Force
Supports Dynamic Layers: true
MaxRecordCount:  1000
MaxImageHeight:  4096
MaxImageWidth:  4096
Supported Query Formats:  JSON, geoJSON
Supports Query Data Elements:  
Min Scale:  577790.554289
Max Scale:  4513.988705
Min LOD:  10
Max LOD:  17
Supports Datum Transformation:  true
Child Resources:
  
Info
  Dynamic Layer
 
Supported Operations:
  
Export Map
  Identify
  QueryDomains
  QueryLegends
  Find
  Return Updates
  Generate KML