View In:
  ArcGIS JavaScript
  ArcGIS Online Map Viewer
  ArcGIS Earth
  ArcMap
View Footprint In:
  ArcGIS Online Map Viewer
Service Description:  Aerials/Aerials_1985_Cached_2020
Name:  Aerials/Aerials_1985_Cached_2020
Description:  
Single Fused Map Cache:  true
Tile Info: 
- Height: 256
- Width: 256
- DPI: 96
- 
Levels of Detail:  24
- 
Level ID: 0
[ Start Tile, End Tile ]
- Resolution: 156543.03392800014
- Scale: 5.91657527591555E8
- 
Level ID: 1
[ Start Tile, End Tile ]
- Resolution: 78271.51696399994
- Scale: 2.95828763795777E8
- 
Level ID: 2
[ Start Tile, End Tile ]
- Resolution: 39135.75848200009
- Scale: 1.47914381897889E8
- 
Level ID: 3
[ Start Tile, End Tile ]
- Resolution: 19567.87924099992
- Scale: 7.3957190948944E7
- 
Level ID: 4
[ Start Tile, End Tile ]
- Resolution: 9783.93962049996
- Scale: 3.6978595474472E7
- 
Level ID: 5
[ Start Tile, End Tile ]
- Resolution: 4891.96981024998
- Scale: 1.8489297737236E7
- Format: JPEG
- Compression Quality: 75.0
- LERC Error: NaN
- Origin: X:  -2.0037508342787E7
 Y:  2.0037508342787E7
 
- Spatial Reference: 102100
 (3857)
 
Extent:
XMin: -9077574.086976733
YMin: 5091725.643937718
XMax: -9009960.453219377
YMax: 5143475.708692285
Spatial Reference: 102100
 (3857)
Initial Extent:
XMin: -9077574.086976733
YMin: 5091725.643937718
XMax: -9009960.453219377
YMax: 5143475.708692285
Spatial Reference: 102100
 (3857)
Full Extent:
XMin: -9077574.086976733
YMin: 5091725.643937718
XMax: -9009960.453219377
YMax: 5143475.708692285
Spatial Reference: 102100
 (3857)
Pixel Size X: 1.0490610827303453
Pixel Size Y:  1.0683889274768783
Band Count: 3
Pixel Type: U8
RasterFunction Infos:  {"rasterFunctionInfos": [{
 "name": "None",
 "description": "",
 "help": ""
}]}
Mensuration Capabilities: Basic
Has Histograms:  false
Has Colormap:  false
Has Multi Dimensions :  false
Rendering Rule: 
Min Scale:  2311162.217155
Max Scale:  4513.988705
Min LOD:  8
Max LOD:  17
Copyright Text:  
Service Data Type:  esriImageServiceDataTypeRGB
Min Values:  N/A
Max Values:  N/A
Mean Values:  N/A
Standard Deviation Values:  N/A
Object ID Field:  
Fields: 
None
Default Mosaic Method:  Center
Allowed Mosaic Methods:  
SortField:  
SortValue:  null
Mosaic Operator:  First
Default Compression Quality:  75
Default Resampling Method:  Bilinear
Max Record Count:  null
Max Image Height:  4100
Max Image Width:  15000
Max Download Image Count:  null
Max Mosaic Image Count:  null
Allow Raster Function:  true
Allow Copy:  null
Allow Analysis:  null
Allow Compute TiePoints:  false
Supports Statistics:  false
Supports Advanced Queries:  false
Use StandardizedQueries:  true
Raster Type Infos: 
Name: Raster Dataset
Description: Supports all ArcGIS Raster Datasets
Help: 
Has Raster Attribute Table: false
Edit Fields Info:  null
Ownership Based AccessControl For Rasters:  null
Child Resources:
  
Info
  Key Properties
  Legend
  Raster Function Infos
Supported Operations:
  
Export Image
  Identify
  Measure
  Compute Histograms
  Compute Statistics Histograms
  Get Samples
  Compute Class Statistics
  Query Boundary
  Compute Pixel Location
  Validate
  Project