View In:
  ArcGIS JavaScript
  ArcGIS Online Map Viewer
  ArcGIS Earth
  ArcMap
View Footprint In:
  ArcGIS Online Map Viewer
Service Description:  Aerial photos cover all of Lake County except for eastern half of Madison Township and Madison Village. Also covered in Geauga County is the western half of Thompson Towndship, northwest corner of Montville Township, northern quarter of Hambden Township, western half and northern quarter of Chardon Township, western half of Munson Township and all of Chester Township.
In Cuyahoga County, the eastern quarter of Euclid, Richmond Heights and all but the western edge of Lyndhurst are covered as well as all of Heighland Heights, Mayfield and Gates Mills.
 Aerials/Aerial_1994_Cached_2020
Description:  Aerial photos cover all of Lake County except for eastern half of Madison Township and Madison Village. Also covered in Geauga County is the western half of Thompson Towndship, northwest corner of Montville Township, northern quarter of Hambden Township, western half and northern quarter of Chardon Township, western half of Munson Township and all of Chester Township.
In Cuyahoga County, the eastern quarter of Euclid, Richmond Heights and all but the western edge of Lyndhurst are covered as well as all of Heighland Heights, Mayfield and Gates Mills.
 true
Tile Info: 
- Height: 256
- Width: 256
- DPI: 96
- 
Levels of Detail:  24
- 
Level ID: 0
[ Start Tile, End Tile ]
- Resolution: 156543.03392800014
- Scale: 5.91657527591555E8
- 
Level ID: 1
[ Start Tile, End Tile ]
- Resolution: 78271.51696399994
- Scale: 2.95828763795777E8
- 
Level ID: 2
[ Start Tile, End Tile ]
- Resolution: 39135.75848200009
- Scale: 1.47914381897889E8
- 
Level ID: 3
[ Start Tile, End Tile ]
- Resolution: 19567.87924099992
- Scale: 7.3957190948944E7
- 
Level ID: 4
[ Start Tile, End Tile ]
- Resolution: 9783.93962049996
- Scale: 3.6978595474472E7
- 
Level ID: 5
[ Start Tile, End Tile ]
- Resolution: 4891.96981024998
- Scale: 1.8489297737236E7
- Format: MIXED
- Compression Quality: 75.0
- LERC Error: NaN
- Origin: X:  -2.0037508342787E7
 Y:  2.0037508342787E7
 
- Spatial Reference: 102100
 (3857)
 
Extent:
XMin: -9073274.17594922
YMin: 5085841.30593878
XMax: -9023368.59218051
YMax: 5142711.803604737
Spatial Reference: 102100
 (3857)
Initial Extent:
XMin: -9073274.17594922
YMin: 5085841.30593878
XMax: -9023368.59218051
YMax: 5142711.803604737
Spatial Reference: 102100
 (3857)
Full Extent:
XMin: -9073274.17594922
YMin: 5085841.30593878
XMax: -9023368.59218051
YMax: 5142711.803604737
Spatial Reference: 102100
 (3857)
Pixel Size X: 1.0
Pixel Size Y:  1.0
Band Count: 1
Pixel Type: U8
RasterFunction Infos:  {"rasterFunctionInfos": [{
 "name": "None",
 "description": "",
 "help": ""
}]}
Mensuration Capabilities: Basic
Has Histograms:  true
Has Colormap:  false
Has Multi Dimensions :  false
Rendering Rule: 
Min Scale:  288895.277144
Max Scale:  564.248588
Min LOD:  11
Max LOD:  20
Copyright Text:  
Service Data Type:  esriImageServiceDataTypeGeneric
Min Values:  0
Max Values:  255
Mean Values:  90.72963874432175
Standard Deviation Values:  25.847468050576385
Object ID Field:  
Fields: 
None
Default Mosaic Method:  Center
Allowed Mosaic Methods:  
SortField:  
SortValue:  null
Mosaic Operator:  First
Default Compression Quality:  75
Default Resampling Method:  Bilinear
Max Record Count:  null
Max Image Height:  4100
Max Image Width:  15000
Max Download Image Count:  null
Max Mosaic Image Count:  null
Allow Raster Function:  true
Allow Copy:  null
Allow Analysis:  null
Allow Compute TiePoints:  false
Supports Statistics:  false
Supports Advanced Queries:  false
Use StandardizedQueries:  true
Raster Type Infos: 
Name: Raster Dataset
Description: Supports all ArcGIS Raster Datasets
Help: 
Has Raster Attribute Table: false
Edit Fields Info:  null
Ownership Based AccessControl For Rasters:  null
Child Resources:
  
Info
  Histograms
  Key Properties
  Legend
  Raster Function Infos
Supported Operations:
  
Export Image
  Identify
  Measure
  Compute Histograms
  Compute Statistics Histograms
  Get Samples
  Compute Class Statistics
  Query Boundary
  Compute Pixel Location
  Validate
  Project