{
 "currentVersion": 10.81,
 "serviceDescription": "Aerials/Aerial_1973_Cached_2020",
 "name": "Aerials/Aerial_1973_Cached_2020",
 "description": "",
 "extent": {
  "xmin": 2233301.3888888806,
  "ymin": 679267.3611111376,
  "xmax": 2387377.7777777696,
  "ymax": 812743.055555582,
  "spatialReference": {
   "wkid": 102722,
   "latestWkid": 3734
  }
 },
 "initialExtent": {
  "xmin": 2233301.3888888806,
  "ymin": 679267.3611111376,
  "xmax": 2387377.7777777696,
  "ymax": 812743.055555582,
  "spatialReference": {
   "wkid": 102722,
   "latestWkid": 3734
  }
 },
 "fullExtent": {
  "xmin": 2233301.3888888806,
  "ymin": 679267.3611111376,
  "xmax": 2387377.7777777696,
  "ymax": 812743.055555582,
  "spatialReference": {
   "wkid": 102722,
   "latestWkid": 3734
  }
 },
 "pixelSizeX": 3.4722222222222245,
 "pixelSizeY": 3.4722222222222237,
 "bandCount": 3,
 "pixelType": "U8",
 "minPixelSize": 0,
 "maxPixelSize": 0,
 "copyrightText": "",
 "serviceDataType": "esriImageServiceDataTypeRGB",
 "minValues": [],
 "maxValues": [],
 "meanValues": [],
 "stdvValues": [],
 "objectIdField": "",
 "fields": [],
 "capabilities": "Image,Metadata,Mensuration",
 "defaultMosaicMethod": "Center",
 "allowedMosaicMethods": "",
 "sortField": "",
 "sortValue": null,
 "sortAscending": true,
 "mosaicOperator": "First",
 "defaultCompressionQuality": 75,
 "defaultResamplingMethod": "Bilinear",
 "maxImageHeight": 4100,
 "maxImageWidth": 15000,
 "allowRasterFunction": true,
 "rasterFunctionInfos": [
  {
   "name": "None",
   "description": "",
   "help": ""
  }
 ],
 "rasterTypeInfos": [
  {
   "name": "Raster Dataset",
   "description": "Supports all ArcGIS Raster Datasets",
   "help": ""
  }
 ],
 "mensurationCapabilities": "Basic",
 "hasHistograms": false,
 "hasColormap": false,
 "hasRasterAttributeTable": false,
 "minScale": 0,
 "maxScale": 0,
 "exportTilesAllowed": false,
 "hasMultidimensions": false,
 "supportsStatistics": false,
 "supportsAdvancedQueries": false,
 "editFieldsInfo": null,
 "ownershipBasedAccessControlForRasters": null,
 "allowComputeTiePoints": false,
 "useStandardizedQueries": true,
 "advancedQueryCapabilities": {
  "useStandardizedQueries": true,
  "supportsStatistics": false,
  "supportsOrderBy": false,
  "supportsDistinct": false,
  "supportsPagination": false
 },
 "spatialReference": {
  "wkid": 102722,
  "latestWkid": 3734
 }
}
